BEGIN:VCALENDAR
VERSION:2.0
PRODID:-//Tukios.com/
BEGIN:VEVENT
UID:f91d50d3-33e8-43fa-b452-6381376c097f@www.bradfordfuneralhome.net
DTSTAMP:20260423T235629Z
DTSTART:20260425T180000Z
DTEND:20260425T190000Z
SUMMARY:Graveside Service
DESCRIPTION:The cemetery is located next to Big Creek Trail Ride.
URL:https://www.bradfordfuneralhome.net/obituaries/kirk-howell
LOCATION: CO RD 385  Hartshorn MO 65479
GEO:37.3471844;-91.6218323
END:VEVENT
END:VCALENDAR