BEGIN:VCALENDAR
VERSION:2.0
PRODID:-//Tukios.com/
BEGIN:VEVENT
UID:b049754e-d3ad-41e0-9458-67a11b034c1e@www.bradfordfuneralhome.net
DTSTAMP:20260420T061843Z
DTSTART:20260421T230000Z
DTEND:20260422T010000Z
SUMMARY:Visitation
DESCRIPTION:
URL:https://www.bradfordfuneralhome.net/obituaries/randle-scheets
LOCATION:Providence Freewill Baptist Church 4012 Hwy PP  Cabool MO 65689
GEO:37.188155;-92.0900885
END:VEVENT
END:VCALENDAR