BEGIN:VCALENDAR
VERSION:2.0
PRODID:-//Tukios.com/
BEGIN:VEVENT
UID:7f616c60-2189-4355-a9de-3ca0a8e7f76f@www.bradfordfuneralhome.net
DTSTAMP:20260420T061951Z
DTSTART:20260422T190000Z
DTEND:20260422T200000Z
SUMMARY:Funeral Service
DESCRIPTION:
URL:https://www.bradfordfuneralhome.net/obituaries/randle-scheets
LOCATION: 4012 Hwy PP  Cabool MO 65689
GEO:37.188155;-92.0900885
END:VEVENT
END:VCALENDAR