BEGIN:VCALENDAR
VERSION:2.0
PRODID:-//Tukios.com/
BEGIN:VEVENT
UID:baa21516-4a1d-450a-8f27-8fb05a193a8d@www.bradfordfuneralhome.net
DTSTAMP:20260420T061650Z
DTSTART:20260422T200000Z
DTEND:20260422T210000Z
SUMMARY:Interment
DESCRIPTION:
URL:https://www.bradfordfuneralhome.net/obituaries/randle-scheets
LOCATION:Providence Cemetery 4012 HWY PP  Cabool MO 65689
GEO:37.188155;-92.0900885
END:VEVENT
END:VCALENDAR